BEGIN:VCALENDAR
VERSION:2.0
PRODID:-//AutoSports NW - ECPv6.15.11//NONSGML v1.0//EN
CALSCALE:GREGORIAN
METHOD:PUBLISH
X-ORIGINAL-URL:https://asnw.org
X-WR-CALDESC:Events for AutoSports NW
REFRESH-INTERVAL;VALUE=DURATION:PT1H
X-Robots-Tag:noindex
X-PUBLISHED-TTL:PT1H
BEGIN:VTIMEZONE
TZID:UTC
BEGIN:STANDARD
TZOFFSETFROM:+0000
TZOFFSETTO:+0000
TZNAME:UTC
DTSTART:20210101T000000
END:STANDARD
END:VTIMEZONE
BEGIN:VEVENT
DTSTART;VALUE=DATE:20220723
DTEND;VALUE=DATE:20220725
DTSTAMP:20260421T222022
CREATED:20220322T040853Z
LAST-MODIFIED:20220322T040853Z
UID:1454-1658534400-1658707199@asnw.org
SUMMARY:Race Events 9 and  10
DESCRIPTION:Event 9 and 10!\n 
URL:https://asnw.org/event/race-events-9-and-10/
LOCATION:Deer Park Airport – East Entrance\, 34615 N. Missile Site Rd\, Deer Park\, WA\, 99006\, United States
CATEGORIES:Regular Events
ATTACH;FMTTYPE=image/jpeg:https://asnw.org/wp-content/uploads/2022/03/223554512_2379445708865055_1820040842783291709_n.jpg
END:VEVENT
END:VCALENDAR