BEGIN:VCALENDAR
VERSION:2.0
PRODID:-//AutoSports NW - ECPv6.15.11//NONSGML v1.0//EN
CALSCALE:GREGORIAN
METHOD:PUBLISH
X-ORIGINAL-URL:https://asnw.org
X-WR-CALDESC:Events for AutoSports NW
REFRESH-INTERVAL;VALUE=DURATION:PT1H
X-Robots-Tag:noindex
X-PUBLISHED-TTL:PT1H
BEGIN:VTIMEZONE
TZID:UTC
BEGIN:STANDARD
TZOFFSETFROM:+0000
TZOFFSETTO:+0000
TZNAME:UTC
DTSTART:20200101T000000
END:STANDARD
END:VTIMEZONE
BEGIN:VEVENT
DTSTART;TZID=UTC:20210821T080000
DTEND;TZID=UTC:20210822T170000
DTSTAMP:20260424T153752
CREATED:20201104T022847Z
LAST-MODIFIED:20210405T205738Z
UID:1249-1629532800-1629651600@asnw.org
SUMMARY:Race Events 11 and  12 (Rescheduled for Aug 14th and 15th)
DESCRIPTION:Event 11 and 12! Rescheduled for Aug 14th and 15th\nCOVID 19 Precautions\, Face mask and social distancing Observed.\n: See COVID 19 precautions in Forum.
URL:https://asnw.org/event/race-events-11-and-12-covid-19-precautions-observed-unless-otherwise-noted/
LOCATION:Deer Park Airport – East Entrance\, 34615 N. Missile Site Rd\, Deer Park\, WA\, 99006\, United States
CATEGORIES:Regular Events
ATTACH;FMTTYPE=image/jpeg:https://asnw.org/wp-content/uploads/2020/11/DSC0853.jpg
END:VEVENT
END:VCALENDAR